BEGIN:VCALENDAR
VERSION:2.0
PRODID:TypiCMS
X-PUBLISHED-TTL:P1W
BEGIN:VEVENT
UID:69e88d7448f78
DTSTART;TZID=Europe/Brussels;VALUE=DATE:20170703
SEQUENCE:0
TRANSP:OPAQUE
DTEND;TZID=Europe/Brussels;VALUE=DATE:20170708
SUMMARY:1st GEM-STONES Summer School 
CLASS:PUBLIC
X-MICROSOFT-CDO-ALLDAYEVENT:TRUE
DTSTAMP:20260422T105724Z
END:VEVENT
END:VCALENDAR