BEGIN:VCALENDAR
VERSION:2.0
PRODID:TypiCMS
X-PUBLISHED-TTL:P1W
BEGIN:VEVENT
UID:69ed8b377aa64
DTSTART;TZID=Europe/Brussels;VALUE=DATE:20180115
SEQUENCE:0
TRANSP:OPAQUE
DTEND;TZID=Europe/Brussels;VALUE=DATE:20180127
SUMMARY:Supervisory Trio Assesses Students' Self-evaluations
CLASS:PUBLIC
X-MICROSOFT-CDO-ALLDAYEVENT:TRUE
DTSTAMP:20260426T054911Z
END:VEVENT
END:VCALENDAR