BEGIN:VCALENDAR
VERSION:2.0
PRODID:TypiCMS
X-PUBLISHED-TTL:P1W
BEGIN:VEVENT
UID:69e52d9529493
DTSTART;TZID=Europe/Brussels;VALUE=DATE:20200305
SEQUENCE:0
TRANSP:OPAQUE
DTEND;TZID=Europe/Brussels;VALUE=DATE:20200307
SUMMARY:Dissemination AGORA Forum & Final Conference
CLASS:PUBLIC
X-MICROSOFT-CDO-ALLDAYEVENT:TRUE
DTSTAMP:20260419T213133Z
END:VEVENT
END:VCALENDAR